BEGIN:VCALENDAR
VERSION:2.0
PRODID:-//Patrick &amp; Henry Community College - ECPv6.15.20//NONSGML v1.0//EN
CALSCALE:GREGORIAN
METHOD:PUBLISH
X-ORIGINAL-URL:https://www.patrickhenry.edu
X-WR-CALDESC:Events for Patrick &amp; Henry Community College
REFRESH-INTERVAL;VALUE=DURATION:PT1H
X-Robots-Tag:noindex
X-PUBLISHED-TTL:PT1H
BEGIN:VTIMEZONE
TZID:America/New_York
BEGIN:DAYLIGHT
TZOFFSETFROM:-0500
TZOFFSETTO:-0400
TZNAME:EDT
DTSTART:20250309T070000
END:DAYLIGHT
BEGIN:STANDARD
TZOFFSETFROM:-0400
TZOFFSETTO:-0500
TZNAME:EST
DTSTART:20251102T060000
END:STANDARD
BEGIN:DAYLIGHT
TZOFFSETFROM:-0500
TZOFFSETTO:-0400
TZNAME:EDT
DTSTART:20260308T070000
END:DAYLIGHT
BEGIN:STANDARD
TZOFFSETFROM:-0400
TZOFFSETTO:-0500
TZNAME:EST
DTSTART:20261101T060000
END:STANDARD
BEGIN:DAYLIGHT
TZOFFSETFROM:-0500
TZOFFSETTO:-0400
TZNAME:EDT
DTSTART:20270314T070000
END:DAYLIGHT
BEGIN:STANDARD
TZOFFSETFROM:-0400
TZOFFSETTO:-0500
TZNAME:EST
DTSTART:20271107T060000
END:STANDARD
END:VTIMEZONE
BEGIN:VEVENT
DTSTART;TZID=America/New_York:20260515T180000
DTEND;TZID=America/New_York:20260515T200000
DTSTAMP:20260421T045853
CREATED:20250618T164607Z
LAST-MODIFIED:20260310T115505Z
UID:6667-1778868000-1778875200@www.patrickhenry.edu
SUMMARY:Commencement
DESCRIPTION:
URL:https://www.patrickhenry.edu/event/commencement-2/
LOCATION:VA
CATEGORIES:Academic Calendar
END:VEVENT
BEGIN:VEVENT
DTSTART;TZID=America/New_York:20260518T120000
DTEND;TZID=America/New_York:20260518T130000
DTSTAMP:20260421T045853
CREATED:20260420T153436Z
LAST-MODIFIED:20260420T153436Z
UID:7899-1779105600-1779109200@www.patrickhenry.edu
SUMMARY:P&HCC College Board Meeting
DESCRIPTION:
URL:https://www.patrickhenry.edu/event/phcc-college-board-meeting-3/
LOCATION:Frith Exhibit Hall\, 645 Patriot Avenue\, Martinsville\, VA\, 24112\, United States
CATEGORIES:Academic Calendar
END:VEVENT
END:VCALENDAR